Workbook
Name AgeCheck: Info!$C$5:$D$9
Name DoI: Info!$C$1
Name Gender: Info!$E$3:$E$4
Name IBFree: Info!$L$6
Name IBMed: Info!$M$6
Name IGFree: Info!$J$6
Name IGMed: Info!$K$6
Name JBFree: Info!$L$5
Name JBMed: Info!$M$5
Name JGFree: Info!$J$5
Name JGMed: Info!$K$5
Name Oldest: Info!$B$4
Name Order: Info!$F$3:$F$10
Name SBFree: Info!$L$7
Name SBMed: Info!$M$7
Name SGFree: Info!$J$7
Name SGMed: Info!$K$7
Name Youngest: Info!$C$2

Sheet Team
L1: Team List for:
A2: The ESSA 64th Secondary Schools’ Team Championship Qualifying Round - Sussex Gala 1
L3: Full Name | M3: DoB | N3: ="Age @ "&TEXT(DoI,"dd/mm/yyyy") -> Age @ 31/08/2022 | O3: Age Group | P3: Gender | Q3: Order
Q4: Free | R4: Med
K7: e.g. | L7: Fred Bloggs | M7: =DATE(YEAR(DoI)-12,MONTH(DoI),DAY(DoI)) -> 40421 | N7: =IF(ISBLANK(M7),"",YEAR(DoI)-YEAR(M7)+IF(DoI<DATE(YEAR(DoI),MONTH(M7),DAY(M7)),-1,0)) -> 12 | O7: =VLOOKUP(N7,AgeCheck,2,TRUE) -> Junior | P7: b | Q7: 1 | R7: 1
F8: www.essa-schoolswimming.com | K8: 1 | N8: =IF(ISBLANK(M8),"",YEAR(DoI)-YEAR(M8)+IF(DoI<DATE(YEAR(DoI),MONTH(M8),DAY(M8)),-1,0)) | O8: =IF(ISBLANK(M8),"",VLOOKUP(N8,AgeCheck,2,TRUE))
F9: secondary@essa-schoolswimming.com | K9: 2 | N9: =IF(ISBLANK(M9),"",YEAR(DoI)-YEAR(M9)+IF(DoI<DATE(YEAR(DoI),MONTH(M9),DAY(M9)),-1,0)) | O9: =IF(ISBLANK(M9),"",VLOOKUP(N9,AgeCheck,2,TRUE))
A10: Wednesday 21st September 2022 | K10: 3 | N10: =IF(ISBLANK(M10),"",YEAR(DoI)-YEAR(M10)+IF(DoI<DATE(YEAR(DoI),MONTH(M10),DAY(M10)),-1,0)) | O10: =IF(ISBLANK(M10),"",VLOOKUP(N10,AgeCheck,2,TRUE))
A11: at Horsham, Pavillions in the Park | K11: 4 | N11: =IF(ISBLANK(M11),"",YEAR(DoI)-YEAR(M11)+IF(DoI<DATE(YEAR(DoI),MONTH(M11),DAY(M11)),-1,0)) | O11: =IF(ISBLANK(M11),"",VLOOKUP(N11,AgeCheck,2,TRUE))
A12: Team List – Qualification Round | K12: 5 | N12: =IF(ISBLANK(M12),"",YEAR(DoI)-YEAR(M12)+IF(DoI<DATE(YEAR(DoI),MONTH(M12),DAY(M12)),-1,0)) | O12: =IF(ISBLANK(M12),"",VLOOKUP(N12,AgeCheck,2,TRUE))
A13: Please Complete all areas Highlighted in Yellow | E13: Please avoid pasting info in, use paste special - values | K13: 6 | N13: =IF(ISBLANK(M13),"",YEAR(DoI)-YEAR(M13)+IF(DoI<DATE(YEAR(DoI),MONTH(M13),DAY(M13)),-1,0)) | O13: =IF(ISBLANK(M13),"",VLOOKUP(N13,AgeCheck,2,TRUE))
A14: School Name | D14: =IF(ISBLANK(M1),"",M1) | H14: Town | K14: 7 | N14: =IF(ISBLANK(M14),"",YEAR(DoI)-YEAR(M14)+IF(DoI<DATE(YEAR(DoI),MONTH(M14),DAY(M14)),-1,0)) | O14: =IF(ISBLANK(M14),"",VLOOKUP(N14,AgeCheck,2,TRUE))
A15: Full name for programme | K15: 8 | N15: =IF(ISBLANK(M15),"",YEAR(DoI)-YEAR(M15)+IF(DoI<DATE(YEAR(DoI),MONTH(M15),DAY(M15)),-1,0)) | O15: =IF(ISBLANK(M15),"",VLOOKUP(N15,AgeCheck,2,TRUE))
A16: Event Entered | F16: Girls | H16: Boys | K16: 9 | N16: =IF(ISBLANK(M16),"",YEAR(DoI)-YEAR(M16)+IF(DoI<DATE(YEAR(DoI),MONTH(M16),DAY(M16)),-1,0)) | O16: =IF(ISBLANK(M16),"",VLOOKUP(N16,AgeCheck,2,TRUE))
A17: Please tick relevant box(es) | F17: Free | G17: Medley | H17: Free | I17: Medley | K17: 10 | N17: =IF(ISBLANK(M17),"",YEAR(DoI)-YEAR(M17)+IF(DoI<DATE(YEAR(DoI),MONTH(M17),DAY(M17)),-1,0)) | O17: =IF(ISBLANK(M17),"",VLOOKUP(N17,AgeCheck,2,TRUE))
A18: Juniors | B18: ="["&TEXT(Info!B2,"dd/mm/yy")&" - "&TEXT(Info!C2,"dd/mm/yyyy")&"]" -> [01/09/09 - 31/08/2011] | K18: 11 | N18: =IF(ISBLANK(M18),"",YEAR(DoI)-YEAR(M18)+IF(DoI<DATE(YEAR(DoI),MONTH(M18),DAY(M18)),-1,0)) | O18: =IF(ISBLANK(M18),"",VLOOKUP(N18,AgeCheck,2,TRUE))
B19: [normally School Years 7 & 8] | K19: 12 | N19: =IF(ISBLANK(M19),"",YEAR(DoI)-YEAR(M19)+IF(DoI<DATE(YEAR(DoI),MONTH(M19),DAY(M19)),-1,0)) | O19: =IF(ISBLANK(M19),"",VLOOKUP(N19,AgeCheck,2,TRUE))
A20: Inters. | B20: ="["&TEXT(Info!B3,"dd/mm/yy")&" - "&TEXT(Info!C3,"dd/mm/yyyy")&"]" -> [01/09/07 - 31/08/2009] | K20: 13 | N20: =IF(ISBLANK(M20),"",YEAR(DoI)-YEAR(M20)+IF(DoI<DATE(YEAR(DoI),MONTH(M20),DAY(M20)),-1,0)) | O20: =IF(ISBLANK(M20),"",VLOOKUP(N20,AgeCheck,2,TRUE))
B21: [normally School Years 9 & 10] | K21: 14 | N21: =IF(ISBLANK(M21),"",YEAR(DoI)-YEAR(M21)+IF(DoI<DATE(YEAR(DoI),MONTH(M21),DAY(M21)),-1,0)) | O21: =IF(ISBLANK(M21),"",VLOOKUP(N21,AgeCheck,2,TRUE))
A22: Seniors | B22: ="["&TEXT(Info!B4,"dd/mm/yy")&" - "&TEXT(Info!C4,"dd/mm/yyyy")&"]" -> [01/09/04 - 31/08/2007] | K22: 15 | N22: =IF(ISBLANK(M22),"",YEAR(DoI)-YEAR(M22)+IF(DoI<DATE(YEAR(DoI),MONTH(M22),DAY(M22)),-1,0)) | O22: =IF(ISBLANK(M22),"",VLOOKUP(N22,AgeCheck,2,TRUE))
B23: [normally School Years 11/12 & 13] | K23: 16 | N23: =IF(ISBLANK(M23),"",YEAR(DoI)-YEAR(M23)+IF(DoI<DATE(YEAR(DoI),MONTH(M23),DAY(M23)),-1,0)) | O23: =IF(ISBLANK(M23),"",VLOOKUP(N23,AgeCheck,2,TRUE))
A24: ="Ages are evaluated as at midnight 31st August / 1st September at the start of the academic year of competition ("&YEAR(DoI)&")." -> Ages are evaluated as at midnight 31st August / 1st September at the start of the academic year of competition (2022). | K24: 17 | N24: =IF(ISBLANK(M24),"",YEAR(DoI)-YEAR(M24)+IF(DoI<DATE(YEAR(DoI),MONTH(M24),DAY(M24)),-1,0)) | O24: =IF(ISBLANK(M24),"",VLOOKUP(N24,AgeCheck,2,TRUE))
K25: 18 | N25: =IF(ISBLANK(M25),"",YEAR(DoI)-YEAR(M25)+IF(DoI<DATE(YEAR(DoI),MONTH(M25),DAY(M25)),-1,0)) | O25: =IF(ISBLANK(M25),"",VLOOKUP(N25,AgeCheck,2,TRUE))
A26: Swimmers date of birth must be within the date range (inclusive) above. | K26: 19 | N26: =IF(ISBLANK(M26),"",YEAR(DoI)-YEAR(M26)+IF(DoI<DATE(YEAR(DoI),MONTH(M26),DAY(M26)),-1,0)) | O26: =IF(ISBLANK(M26),"",VLOOKUP(N26,AgeCheck,2,TRUE))
A27: School year is provided for information only, a swimmer that is out of the normal age for school year may be ineligible, e.g. if they retake a year. | K27: 20 | N27: =IF(ISBLANK(M27),"",YEAR(DoI)-YEAR(M27)+IF(DoI<DATE(YEAR(DoI),MONTH(M27),DAY(M27)),-1,0)) | O27: =IF(ISBLANK(M27),"",VLOOKUP(N27,AgeCheck,2,TRUE))
K28: 21 | N28: =IF(ISBLANK(M28),"",YEAR(DoI)-YEAR(M28)+IF(DoI<DATE(YEAR(DoI),MONTH(M28),DAY(M28)),-1,0)) | O28: =IF(ISBLANK(M28),"",VLOOKUP(N28,AgeCheck,2,TRUE))
A29: Complete the details above and form over for all swimmers in all teams | K29: 22 | N29: =IF(ISBLANK(M29),"",YEAR(DoI)-YEAR(M29)+IF(DoI<DATE(YEAR(DoI),MONTH(M29),DAY(M29)),-1,0)) | O29: =IF(ISBLANK(M29),"",VLOOKUP(N29,AgeCheck,2,TRUE))
A30: Please include all swimmers and reserves. Indication of swim order/reserve status is only nominal and does not constrain you to follow this order in the heats or finals, you only need to advise us of changes if you use a swimmer that is not on the list, or use a swimmer out of age group. | K30: 23 | N30: =IF(ISBLANK(M30),"",YEAR(DoI)-YEAR(M30)+IF(DoI<DATE(YEAR(DoI),MONTH(M30),DAY(M30)),-1,0)) | O30: =IF(ISBLANK(M30),"",VLOOKUP(N30,AgeCheck,2,TRUE))
K31: 24 | N31: =IF(ISBLANK(M31),"",YEAR(DoI)-YEAR(M31)+IF(DoI<DATE(YEAR(DoI),MONTH(M31),DAY(M31)),-1,0)) | O31: =IF(ISBLANK(M31),"",VLOOKUP(N31,AgeCheck,2,TRUE))
K32: 25 | N32: =IF(ISBLANK(M32),"",YEAR(DoI)-YEAR(M32)+IF(DoI<DATE(YEAR(DoI),MONTH(M32),DAY(M32)),-1,0)) | O32: =IF(ISBLANK(M32),"",VLOOKUP(N32,AgeCheck,2,TRUE))
K33: 26 | N33: =IF(ISBLANK(M33),"",YEAR(DoI)-YEAR(M33)+IF(DoI<DATE(YEAR(DoI),MONTH(M33),DAY(M33)),-1,0)) | O33: =IF(ISBLANK(M33),"",VLOOKUP(N33,AgeCheck,2,TRUE))
A34: I certify that the dates of birth of team members given above have been checked in the School admissions register and that all the conditions of the Championship have been observed. | K34: 27 | N34: =IF(ISBLANK(M34),"",YEAR(DoI)-YEAR(M34)+IF(DoI<DATE(YEAR(DoI),MONTH(M34),DAY(M34)),-1,0)) | O34: =IF(ISBLANK(M34),"",VLOOKUP(N34,AgeCheck,2,TRUE))
K35: 28 | N35: =IF(ISBLANK(M35),"",YEAR(DoI)-YEAR(M35)+IF(DoI<DATE(YEAR(DoI),MONTH(M35),DAY(M35)),-1,0)) | O35: =IF(ISBLANK(M35),"",VLOOKUP(N35,AgeCheck,2,TRUE))
K36: 29 | N36: =IF(ISBLANK(M36),"",YEAR(DoI)-YEAR(M36)+IF(DoI<DATE(YEAR(DoI),MONTH(M36),DAY(M36)),-1,0)) | O36: =IF(ISBLANK(M36),"",VLOOKUP(N36,AgeCheck,2,TRUE))
A37: Signature of teacher in Charge ________________________________________ Date __________ | K37: 30 | N37: =IF(ISBLANK(M37),"",YEAR(DoI)-YEAR(M37)+IF(DoI<DATE(YEAR(DoI),MONTH(M37),DAY(M37)),-1,0)) | O37: =IF(ISBLANK(M37),"",VLOOKUP(N37,AgeCheck,2,TRUE))
K38: 31 | N38: =IF(ISBLANK(M38),"",YEAR(DoI)-YEAR(M38)+IF(DoI<DATE(YEAR(DoI),MONTH(M38),DAY(M38)),-1,0)) | O38: =IF(ISBLANK(M38),"",VLOOKUP(N38,AgeCheck,2,TRUE))
K39: 32 | N39: =IF(ISBLANK(M39),"",YEAR(DoI)-YEAR(M39)+IF(DoI<DATE(YEAR(DoI),MONTH(M39),DAY(M39)),-1,0)) | O39: =IF(ISBLANK(M39),"",VLOOKUP(N39,AgeCheck,2,TRUE))
A40: PLEASE BRING A SIGNED COPY WITH YOU TO THE EVENT - HAND IT IN AT THE CHECK IN DESK WHEN YOU ARRIVE AT THE VENUE | K40: 33 | N40: =IF(ISBLANK(M40),"",YEAR(DoI)-YEAR(M40)+IF(DoI<DATE(YEAR(DoI),MONTH(M40),DAY(M40)),-1,0)) | O40: =IF(ISBLANK(M40),"",VLOOKUP(N40,AgeCheck,2,TRUE))
K41: 34 | N41: =IF(ISBLANK(M41),"",YEAR(DoI)-YEAR(M41)+IF(DoI<DATE(YEAR(DoI),MONTH(M41),DAY(M41)),-1,0)) | O41: =IF(ISBLANK(M41),"",VLOOKUP(N41,AgeCheck,2,TRUE))
K42: 35 | N42: =IF(ISBLANK(M42),"",YEAR(DoI)-YEAR(M42)+IF(DoI<DATE(YEAR(DoI),MONTH(M42),DAY(M42)),-1,0)) | O42: =IF(ISBLANK(M42),"",VLOOKUP(N42,AgeCheck,2,TRUE))
...

Sheet Info
A1: ESSA2021 | B1: DoI | C1: =DATE(D1,8,31) -> 44804 | D1: =TRIM(RIGHT(Team!A10,5))*1 -> 2022 | G1: =DATE(YEAR(TODAY()),8,31) -> 44804 | I1: Checks
A2: Junior | B2: =DATE(YEAR(DoI)-B6,MONTH(DoI),DAY(DoI))+1 -> 40057 | C2: =DATE(YEAR(DoI)-C6,MONTH(DoI),DAY(DoI)) -> 40786 | E2: Gender | F2: Order | J2: =LEFT(J3,1) -> G | K2: =LEFT(K3,1) -> G | L2: =LEFT(L3,1) -> B | M2: =LEFT(M3,1) -> B
A3: Inter. | B3: =DATE(YEAR(DoI)-B7,MONTH(DoI),DAY(DoI))+1 -> 39326 | C3: =DATE(YEAR(DoI)-C7,MONTH(DoI),DAY(DoI)) -> 40056 | E3: B | F3: 1 | J3: Girls | K3: Girls | L3: Boys | M3: Boys
A4: Senior | B4: =DATE(YEAR(DoI)-B8,MONTH(DoI),DAY(DoI))+1 -> 38231 | C4: =DATE(YEAR(DoI)-C8,MONTH(DoI),DAY(DoI)) -> 39325 | E4: G | F4: 2 | J4: Free | K4: Med | L4: Free | M4: Med
C5: 0 | D5: Too Young | F5: 3 | I5: Junior | J5: =SUMPRODUCT((Team!$O$8:$O$44=$I5)*(Team!$P$8:$P$44=J$2)*(Team!$Q$8:$Q$44<>"")) -> 0 | K5: =SUMPRODUCT((Team!$O$8:$O$44=$I5)*(Team!$P$8:$P$44=K$2)*(Team!$R$8:$R$44<>"")) -> 0 | L5: =SUMPRODUCT((Team!$O$8:$O$44=$I5)*(Team!$P$8:$P$44=L$2)*(Team!$Q$8:$Q$44<>"")) -> 0 | M5: =SUMPRODUCT((Team!$O$8:$O$44=$I5)*(Team!$P$8:$P$44=M$2)*(Team!$R$8:$R$44<>"")) -> 0
A6: Ages | B6: 13 | C6: 11 | D6: Junior | F6: 4 | I6: Inter. | J6: =SUMPRODUCT((Team!$O$8:$O$44=$I6)*(Team!$P$8:$P$44=J$2)*(Team!$Q$8:$Q$44<>"")) -> 0 | K6: =SUMPRODUCT((Team!$O$8:$O$44=$I6)*(Team!$P$8:$P$44=K$2)*(Team!$R$8:$R$44<>"")) -> 0 | L6: =SUMPRODUCT((Team!$O$8:$O$44=$I6)*(Team!$P$8:$P$44=L$2)*(Team!$Q$8:$Q$44<>"")) -> 0 | M6: =SUMPRODUCT((Team!$O$8:$O$44=$I6)*(Team!$P$8:$P$44=M$2)*(Team!$R$8:$R$44<>"")) -> 0
B7: 15 | C7: 13 | D7: Inter. | F7: Y | I7: Senior | J7: =SUMPRODUCT((Team!$O$8:$O$44=$I7)*(Team!$P$8:$P$44=J$2)*(Team!$Q$8:$Q$44<>"")) -> 0 | K7: =SUMPRODUCT((Team!$O$8:$O$44=$I7)*(Team!$P$8:$P$44=K$2)*(Team!$R$8:$R$44<>"")) -> 0 | L7: =SUMPRODUCT((Team!$O$8:$O$44=$I7)*(Team!$P$8:$P$44=L$2)*(Team!$Q$8:$Q$44<>"")) -> 0 | M7: =SUMPRODUCT((Team!$O$8:$O$44=$I7)*(Team!$P$8:$P$44=M$2)*(Team!$R$8:$R$44<>"")) -> 0
B8: 18 | C8: 15 | D8: Senior | F8: R
C9: 18 | D9: Too Old | F9: H
F10: F
